BEGIN:VCALENDAR
VERSION:2.0
PRODID:-//Texas CASA - ECPv6.15.20//NONSGML v1.0//EN
CALSCALE:GREGORIAN
METHOD:PUBLISH
X-WR-CALNAME:Texas CASA
X-ORIGINAL-URL:https://texascasa.org
X-WR-CALDESC:Events for Texas CASA
REFRESH-INTERVAL;VALUE=DURATION:PT1H
X-Robots-Tag:noindex
X-PUBLISHED-TTL:PT1H
BEGIN:VTIMEZONE
TZID:America/Chicago
BEGIN:DAYLIGHT
TZOFFSETFROM:-0600
TZOFFSETTO:-0500
TZNAME:CDT
DTSTART:20240310T080000
END:DAYLIGHT
BEGIN:STANDARD
TZOFFSETFROM:-0500
TZOFFSETTO:-0600
TZNAME:CST
DTSTART:20241103T070000
END:STANDARD
BEGIN:DAYLIGHT
TZOFFSETFROM:-0600
TZOFFSETTO:-0500
TZNAME:CDT
DTSTART:20250309T080000
END:DAYLIGHT
BEGIN:STANDARD
TZOFFSETFROM:-0500
TZOFFSETTO:-0600
TZNAME:CST
DTSTART:20251102T070000
END:STANDARD
BEGIN:DAYLIGHT
TZOFFSETFROM:-0600
TZOFFSETTO:-0500
TZNAME:CDT
DTSTART:20260308T080000
END:DAYLIGHT
BEGIN:STANDARD
TZOFFSETFROM:-0500
TZOFFSETTO:-0600
TZNAME:CST
DTSTART:20261101T070000
END:STANDARD
END:VTIMEZONE
BEGIN:VEVENT
DTSTART;TZID=America/Chicago:20250515T080000
DTEND;TZID=America/Chicago:20250516T170000
DTSTAMP:20260423T114652
CREATED:20240816T133848Z
LAST-MODIFIED:20240816T134704Z
UID:10000134-1747296000-1747414800@texascasa.org
SUMMARY:New Executive Director University (In Person)
DESCRIPTION:
URL:https://texascasa.org/event/new-executive-director-university-in-person/2025-05-15/
LOCATION:Texas CASA Office\, 1501 W Anderson Ln. B2\, Austin\, Texas\, 78757\, United States
ATTACH;FMTTYPE=image/jpeg:https://texascasa.org/wp-content/uploads/2024/07/iStock-1334737130.jpg
ORGANIZER;CN="Program Operations":MAILTO:cprather@texascasa.org
END:VEVENT
BEGIN:VEVENT
DTSTART;TZID=America/Chicago:20250516T080000
DTEND;TZID=America/Chicago:20250516T170000
DTSTAMP:20260423T114652
CREATED:20240816T135243Z
LAST-MODIFIED:20240816T135244Z
UID:10000149-1747382400-1747414800@texascasa.org
SUMMARY:ED/PD Quarterly Meeting
DESCRIPTION:
URL:https://texascasa.org/event/ed-pd-quarterly-meeting/2025-05-16/
ATTACH;FMTTYPE=image/png:https://texascasa.org/wp-content/uploads/2024/08/Addt.-Event-Insta-Size-Stock-Photos-6.png
ORGANIZER;CN="Program Operations":MAILTO:cprather@texascasa.org
END:VEVENT
END:VCALENDAR