BEGIN:VCALENDAR
VERSION:2.0
PRODID:-//Texas CASA - ECPv6.15.20//NONSGML v1.0//EN
CALSCALE:GREGORIAN
METHOD:PUBLISH
X-WR-CALNAME:Texas CASA
X-ORIGINAL-URL:https://texascasa.org
X-WR-CALDESC:Events for Texas CASA
REFRESH-INTERVAL;VALUE=DURATION:PT1H
X-Robots-Tag:noindex
X-PUBLISHED-TTL:PT1H
BEGIN:VTIMEZONE
TZID:America/Chicago
BEGIN:DAYLIGHT
TZOFFSETFROM:-0600
TZOFFSETTO:-0500
TZNAME:CDT
DTSTART:20240310T080000
END:DAYLIGHT
BEGIN:STANDARD
TZOFFSETFROM:-0500
TZOFFSETTO:-0600
TZNAME:CST
DTSTART:20241103T070000
END:STANDARD
BEGIN:DAYLIGHT
TZOFFSETFROM:-0600
TZOFFSETTO:-0500
TZNAME:CDT
DTSTART:20250309T080000
END:DAYLIGHT
BEGIN:STANDARD
TZOFFSETFROM:-0500
TZOFFSETTO:-0600
TZNAME:CST
DTSTART:20251102T070000
END:STANDARD
BEGIN:DAYLIGHT
TZOFFSETFROM:-0600
TZOFFSETTO:-0500
TZNAME:CDT
DTSTART:20260308T080000
END:DAYLIGHT
BEGIN:STANDARD
TZOFFSETFROM:-0500
TZOFFSETTO:-0600
TZNAME:CST
DTSTART:20261101T070000
END:STANDARD
END:VTIMEZONE
BEGIN:VEVENT
DTSTART;TZID=America/Chicago:20250821T140000
DTEND;TZID=America/Chicago:20250821T153000
DTSTAMP:20260422T165957
CREATED:20240815T161418Z
LAST-MODIFIED:20250715T132326Z
UID:10000003-1755784800-1755790200@texascasa.org
SUMMARY:CFE Searching Tools Webinar
DESCRIPTION:You’re invited to join the Texas CASA CFE Team for a webinar training to learn more about the different searching tools available to you through Collaborative Family Engagement. While we encourage starting with engagement\, we recognize that there may be situations where searching may be necessary. The following tools will be discussed: Case/File Mining\, Seneca Searches\, Connect Our Kids\, Non-U.S. Based Searches\, Internet Searching and Social Media.
URL:https://texascasa.org/event/cfe-searching-tools-webinar/
ATTACH;FMTTYPE=image/jpeg:https://texascasa.org/wp-content/uploads/2022/08/iStock-1318457000.jpg
ORGANIZER;CN="Collaborative Family Engagement":MAILTO:CFETeam@texascasa.org
END:VEVENT
BEGIN:VEVENT
DTSTART;TZID=America/Chicago:20250827T090000
DTEND;TZID=America/Chicago:20250827T100000
DTSTAMP:20260422T165957
CREATED:20240816T165208Z
LAST-MODIFIED:20240816T165531Z
UID:10000210-1756285200-1756288800@texascasa.org
SUMMARY:Weekly New ED Call
DESCRIPTION:Upcoming Topics: \n\n\n\n\nOctober 9 – The More You Know Meetings\n\n\n\nOctober 16 – Quarterly Legal Resources\n\n\n\nJanuary 15 – The More You Know Meetings\n\n\n\nJanuary 29 – Quarterly Legal Resources\n\n\n\nMarch 26 – Quarterly Legal Resources\n\n\n\nApril 2 – The More You Know Meetings\n\n\n\nJuly 16 – The More You Know Meetings
URL:https://texascasa.org/event/weekly-new-ed-call/2025-08-27/
ATTACH;FMTTYPE=image/jpeg:https://texascasa.org/wp-content/uploads/2022/08/Recruitment-micro-learnings.jpg
ORGANIZER;CN="Program Operations":MAILTO:cprather@texascasa.org
END:VEVENT
BEGIN:VEVENT
DTSTART;TZID=America/Chicago:20250827T090000
DTEND;TZID=America/Chicago:20250827T160000
DTSTAMP:20260422T165957
CREATED:20240816T133153Z
LAST-MODIFIED:20250822T190137Z
UID:10000127-1756285200-1756310400@texascasa.org
SUMMARY:CFE: Family Meeting Workday (In Person)
DESCRIPTION:The CFE Family Meeting Workday is designed for professionals across CASA\, CPS and SSCCs who support and facilitate family meetings. This in-person gathering will provide hands-on strategies\, real-world examples\, and skill-building activities that promote comprehensive and effective facilitation\, ensuring every voice is heard and valued. Space is limited so this event is by invite only. Please reach out to the CFE Team if you have any questions.
URL:https://texascasa.org/event/cfe-family-meeting-workday-in-person/
ATTACH;FMTTYPE=image/png:https://texascasa.org/wp-content/uploads/2021/02/Event_Feature_Training2.png
ORGANIZER;CN="Collaborative Family Engagement":MAILTO:CFETeam@texascasa.org
END:VEVENT
BEGIN:VEVENT
DTSTART;TZID=America/Chicago:20250901T000000
DTEND;TZID=America/Chicago:20250901T235959
DTSTAMP:20260422T165957
CREATED:20250722T134650Z
LAST-MODIFIED:20250722T135711Z
UID:10000255-1756684800-1756771199@texascasa.org
SUMMARY:Labor Day
DESCRIPTION:
URL:https://texascasa.org/event/labor-day-2/
ATTACH;FMTTYPE=image/jpeg:https://texascasa.org/wp-content/uploads/2024/07/iStock-1311298277.jpg
END:VEVENT
BEGIN:VEVENT
DTSTART;TZID=America/Chicago:20250910T080000
DTEND;TZID=America/Chicago:20250910T170000
DTSTAMP:20260422T165957
CREATED:20250812T212057Z
LAST-MODIFIED:20250812T212057Z
UID:10000288-1757491200-1757523600@texascasa.org
SUMMARY:HHSC Request for Reimbursement
DESCRIPTION:
URL:https://texascasa.org/event/hhsc-request-for-reimbursement-2/2025-09-10/
ATTACH;FMTTYPE=image/jpeg:https://texascasa.org/wp-content/uploads/2024/08/iStock-1468678659.jpg
ORGANIZER;CN="Grants Team":MAILTO:grants@texascasa.org
END:VEVENT
BEGIN:VEVENT
DTSTART;TZID=America/Chicago:20250910T093000
DTEND;TZID=America/Chicago:20250910T160000
DTSTAMP:20260422T165957
CREATED:20250724T131442Z
LAST-MODIFIED:20250812T144803Z
UID:10000265-1757496600-1757520000@texascasa.org
SUMMARY:CASA ACT Day (Anti-Child Trafficking)
DESCRIPTION:CASA ACT Day (Anti-Child Trafficking) will be held on September 10th from 9:30-4 in Austin. This event is open to any program who is currently utilizing ACT Advocacy in some capacity. Join us for an information filled day where we learn from experts\, share best practices and strengthen our CASA ACT Advocacy.  Because of limited space\, only one staff member per program is able to register.  For questions\, please contact Torey Tipton (casaacts@texascasa.org)  or Anna McDonnell (amcdonell@texascasa.org). \n\n\n\nRegistration closes August 26\, 2025
URL:https://texascasa.org/event/casa-act-day-anti-child-trafficking/
ATTACH;FMTTYPE=image/png:https://texascasa.org/wp-content/uploads/2025/07/ACTLogo_Final-scaled.png
ORGANIZER;CN="CASA ACT":MAILTO:casaacts@texascasa.org
END:VEVENT
BEGIN:VEVENT
DTSTART;TZID=America/Chicago:20250911T080000
DTEND;TZID=America/Chicago:20250912T170000
DTSTAMP:20260422T165957
CREATED:20250819T205008Z
LAST-MODIFIED:20250819T205009Z
UID:10000489-1757577600-1757696400@texascasa.org
SUMMARY:New Executive Director University (In Person)
DESCRIPTION:
URL:https://texascasa.org/event/new-executive-director-university-in-person-2/2025-09-11/
LOCATION:Texas CASA Office\, 1501 W Anderson Ln. B2\, Austin\, Texas\, 78757\, United States
ATTACH;FMTTYPE=image/jpeg:https://texascasa.org/wp-content/uploads/2024/07/iStock-1334737130.jpg
ORGANIZER;CN="Program Operations":MAILTO:cprather@texascasa.org
END:VEVENT
BEGIN:VEVENT
DTSTART;TZID=America/Chicago:20250915T080000
DTEND;TZID=America/Chicago:20250915T170000
DTSTAMP:20260422T165957
CREATED:20250819T205527Z
LAST-MODIFIED:20250819T205528Z
UID:10000502-1757923200-1757955600@texascasa.org
SUMMARY:Program Director Monthly Meeting
DESCRIPTION:
URL:https://texascasa.org/event/program-director-monthly-meeting-3/2025-09-15/
ATTACH;FMTTYPE=image/jpeg:https://texascasa.org/wp-content/uploads/2022/08/Recruitment-micro-learnings.jpg
ORGANIZER;CN="Program Operations":MAILTO:cprather@texascasa.org
END:VEVENT
BEGIN:VEVENT
DTSTART;TZID=America/Chicago:20250915T080000
DTEND;TZID=America/Chicago:20250915T170000
DTSTAMP:20260422T165957
CREATED:20250812T212338Z
LAST-MODIFIED:20250812T212339Z
UID:10000312-1757923200-1757955600@texascasa.org
SUMMARY:VOCA Request for Reimbursement
DESCRIPTION:
URL:https://texascasa.org/event/voca-request-for-reimbursement-2/2025-09-15/
ATTACH;FMTTYPE=image/jpeg:https://texascasa.org/wp-content/uploads/2024/08/iStock-1468678659.jpg
ORGANIZER;CN="Grants Team":MAILTO:grants@texascasa.org
END:VEVENT
BEGIN:VEVENT
DTSTART;TZID=America/Chicago:20250916T120000
DTEND;TZID=America/Chicago:20250916T130000
DTSTAMP:20260422T165957
CREATED:20250811T173608Z
LAST-MODIFIED:20250811T173611Z
UID:10000270-1758024000-1758027600@texascasa.org
SUMMARY:STAR Monthly Zoom: College Knowledge for CASA Advocacy
DESCRIPTION:Please mark your calendars for a special STAR Zoom on Tuesday\, September 16 from 12:00 – 1:00 p.m.\, when we will welcome Jill Rivera from Lonestar College for a presentation on College Knowledge for CASA Advocacy. The presentation will cover college knowledge for youth in foster care\, including timelines and financial assistance\, as well as how to support youth in decision-making for a successful transition to college. This information is so important to CASA educational advocacy for older youth\, so we are inviting all CASA staff and CASA Volunteers to this special presentation.
URL:https://texascasa.org/event/star-monthly-zoom-college-knowledge-for-casa-advocacy/
ATTACH;FMTTYPE=image/png:https://texascasa.org/wp-content/uploads/2024/08/logo-no-sub-head.png
ORGANIZER;CN="STAR Team":MAILTO:lbriggs@texascasa.org
END:VEVENT
END:VCALENDAR